BEGIN:VCALENDAR
PRODID:-//Microsoft Corporation//Outlook 12.0 MIMEDIR//EN
VERSION:2.0
CALSCALE:GREGORIAN
BEGIN:VEVENT
UID: f7847c08-5e02-400b-8da8-e7e09c2f510d
SUMMARY:Jõululaat
DTSTAMP:20241217T000000
DTSTART:20241217T000000
DTEND:20241217T235900
LOCATION:Suure-Jaani
DESCRIPTION: <p>Kell 9.20-10.20 on kõik huvilised oodatud Suure-Jaani koolimaja esimesel korrusel toimuvale jõululaadale, kus müüvad õpilased ja lapsevanemad enda tehtud meisterdusi, käsitööd, maiuseid ja ka minifirmad on oma toodetega väljas. Laadal toimub arveldamine ainult sularahas.&nbsp;</p><p><strong>Link: </strong>https://www.sjk.edu.ee/et/sundmuste-kalender/joululaat-0</p><p><strong>Hind: </strong></p>
STATUS:CONFIRMED
SEQUENCE:3
X-ALT-DESC;FMTTYPE=text/html:<p>Kell 9.20-10.20 on kõik huvilised oodatud Suure-Jaani koolimaja esimesel korrusel toimuvale jõululaadale, kus müüvad õpilased ja lapsevanemad enda tehtud meisterdusi, käsitööd, maiuseid ja ka minifirmad on oma toodetega väljas. Laadal toimub arveldamine ainult sularahas.&nbsp;</p><p><strong>Link: </strong>https://www.sjk.edu.ee/et/sundmuste-kalender/joululaat-0</p><p><strong>Hind: </strong></p>
X-MICROSOFT-CDO-BUSYSTATUS:OOF
X-MICROSOFT-CDO-IMPORTANCE:1
X-MICROSOFT-DISALLOW-COUNTER:FALSE
X-MS-OLK-ALLOWEXTERNCHECK:TRUE
X-MS-OLK-CONFTYPE:0
X-MICROSOFT-CDO-ALLDAYEVENT:
X-MICROSOFT-MSNCALENDAR-ALLDAYEVENT:
END:VEVENT
END:VCALENDAR